BEGIN:VCALENDAR
VERSION:2.0
PRODID:-//hacksw/handcal//NONSGML v1.0//EN
BEGIN:VEVENT
SUMMARY:Ballades Giffoises en vallee de Chevreuse - Trophee 5
UID:e55ab0e0-57e1-4cba-9ddf-2b0756b97b8b
DTSTART:20260620T220000Z
DTEND:20260621T220000Z
LOCATION:Localisation   Gif sur Yvette
CATEGORIES:Sportif
STATUS:
URL;VALUE=URI:https://www.cco91.com/evenements/2026/06/21/ballades-giffoises-en-vallee-de-chevreuse-trophee-5-2426365
END:VEVENT
END:VCALENDAR
