BEGIN:VCALENDAR
VERSION:2.0
PRODID:-//hacksw/handcal//NONSGML v1.0//EN
BEGIN:VEVENT
SUMMARY:La Ballainvilloise
UID:5160f090-e612-4cd7-a5ee-0b1b14b84640
DTSTART:20260627T220000Z
DTEND:20260628T220000Z
LOCATION:Localisation   Ballainvilliers
CATEGORIES:Sportif
STATUS:
URL;VALUE=URI:https://www.cco91.com/evenements/2026/06/28/la-ballainvilloise-2426370
END:VEVENT
END:VCALENDAR
