BEGIN:VCALENDAR
VERSION:2.0
PRODID:-//hacksw/handcal//NONSGML v1.0//EN
BEGIN:VEVENT
SUMMARY:St Micheloise - Trophee 6
UID:bcbfdd6c-c839-42a6-9e12-58901a82ea47
DTSTART:20260919T220000Z
DTEND:20260920T220000Z
LOCATION:Localisation   Saint-Michel sur Orge
CATEGORIES:Sportif
STATUS:
URL;VALUE=URI:https://www.cco91.com/evenements/2026/09/20/st-micheloise-trophee-6-2426374
END:VEVENT
END:VCALENDAR
