BEGIN:VCALENDAR
VERSION:2.0
PRODID:-//hacksw/handcal//NONSGML v1.0//EN
BEGIN:VEVENT
SUMMARY:Virades de l'espoir
UID:ea044e9c-aec7-43ff-8814-d222f4b85bcf
DTSTART:20260926T220000Z
DTEND:20260927T220000Z
LOCATION:Localisation   Saint-Remy les Chevreuses
CATEGORIES:Sportif
STATUS:
URL;VALUE=URI:https://www.cco91.com/evenements/2026/09/27/virades-de-lespoir-2426376
END:VEVENT
END:VCALENDAR
