BEGIN:VCALENDAR
VERSION:2.0
PRODID:-//hacksw/handcal//NONSGML v1.0//EN
BEGIN:VEVENT
SUMMARY:Octobre rose 2026
UID:4bab69f4-6e6c-4311-9c04-2f9cd65c78bc
DTSTART:20261010T220000Z
DTEND:20261011T220000Z
LOCATION:Localisation   Morigny Champigny
CATEGORIES:Sportif
STATUS:
URL;VALUE=URI:https://www.cco91.com/evenements/2026/10/11/octobre-rose-2026-2426378
END:VEVENT
END:VCALENDAR
